BEGIN:VCALENDAR
VERSION:2.0
PRODID:-//Let&#039;s Go Trivia - ECPv6.15.20//NONSGML v1.0//EN
CALSCALE:GREGORIAN
METHOD:PUBLISH
X-WR-CALNAME:Let&#039;s Go Trivia
X-ORIGINAL-URL:https://letsgotrivia.com
X-WR-CALDESC:Events for Let&#039;s Go Trivia
REFRESH-INTERVAL;VALUE=DURATION:PT1H
X-Robots-Tag:noindex
X-PUBLISHED-TTL:PT1H
BEGIN:VTIMEZONE
TZID:America/New_York
BEGIN:DAYLIGHT
TZOFFSETFROM:-0500
TZOFFSETTO:-0400
TZNAME:EDT
DTSTART:20250309T070000
END:DAYLIGHT
BEGIN:STANDARD
TZOFFSETFROM:-0400
TZOFFSETTO:-0500
TZNAME:EST
DTSTART:20251102T060000
END:STANDARD
BEGIN:DAYLIGHT
TZOFFSETFROM:-0500
TZOFFSETTO:-0400
TZNAME:EDT
DTSTART:20260308T070000
END:DAYLIGHT
BEGIN:STANDARD
TZOFFSETFROM:-0400
TZOFFSETTO:-0500
TZNAME:EST
DTSTART:20261101T060000
END:STANDARD
BEGIN:DAYLIGHT
TZOFFSETFROM:-0500
TZOFFSETTO:-0400
TZNAME:EDT
DTSTART:20270314T070000
END:DAYLIGHT
BEGIN:STANDARD
TZOFFSETFROM:-0400
TZOFFSETTO:-0500
TZNAME:EST
DTSTART:20271107T060000
END:STANDARD
END:VTIMEZONE
BEGIN:VEVENT
DTSTART;TZID=America/New_York:20260428T190000
DTEND;TZID=America/New_York:20260428T210000
DTSTAMP:20260424T132747
CREATED:20260306T021554Z
LAST-MODIFIED:20260306T021554Z
UID:10017075-1777402800-1777410000@letsgotrivia.com
SUMMARY:Francey Brady's
DESCRIPTION:Let’s Go Trivia Nights at Francey Brady’s in Yonkers\, NY! Tuesdays at 7:00pm.\n72 Main St\nYonkers NY  10701
URL:https://letsgotrivia.com/find-a-trivia/francey-bradys/2026-04-28/
LOCATION:Francey Brady’s\, 72 Main St\, Yonkers\, NY\, 10701\, United States
GEO:40.9346236;-73.9016993
X-APPLE-STRUCTURED-LOCATION;VALUE=URI;X-ADDRESS=Francey Brady’s 72 Main St Yonkers NY 10701 United States;X-APPLE-RADIUS=500;X-TITLE=72 Main St:geo:-73.9016993,40.9346236
END:VEVENT
BEGIN:VEVENT
DTSTART;TZID=America/New_York:20260505T190000
DTEND;TZID=America/New_York:20260505T210000
DTSTAMP:20260424T132747
CREATED:20260306T021554Z
LAST-MODIFIED:20260306T021554Z
UID:10017076-1778007600-1778014800@letsgotrivia.com
SUMMARY:Francey Brady's
DESCRIPTION:Let’s Go Trivia Nights at Francey Brady’s in Yonkers\, NY! Tuesdays at 7:00pm.\n72 Main St\nYonkers NY  10701
URL:https://letsgotrivia.com/find-a-trivia/francey-bradys/2026-05-05/
LOCATION:Francey Brady’s\, 72 Main St\, Yonkers\, NY\, 10701\, United States
GEO:40.9346236;-73.9016993
X-APPLE-STRUCTURED-LOCATION;VALUE=URI;X-ADDRESS=Francey Brady’s 72 Main St Yonkers NY 10701 United States;X-APPLE-RADIUS=500;X-TITLE=72 Main St:geo:-73.9016993,40.9346236
END:VEVENT
BEGIN:VEVENT
DTSTART;TZID=America/New_York:20260512T190000
DTEND;TZID=America/New_York:20260512T210000
DTSTAMP:20260424T132747
CREATED:20260306T021554Z
LAST-MODIFIED:20260306T021554Z
UID:10017077-1778612400-1778619600@letsgotrivia.com
SUMMARY:Francey Brady's
DESCRIPTION:Let’s Go Trivia Nights at Francey Brady’s in Yonkers\, NY! Tuesdays at 7:00pm.\n72 Main St\nYonkers NY  10701
URL:https://letsgotrivia.com/find-a-trivia/francey-bradys/2026-05-12/
LOCATION:Francey Brady’s\, 72 Main St\, Yonkers\, NY\, 10701\, United States
GEO:40.9346236;-73.9016993
X-APPLE-STRUCTURED-LOCATION;VALUE=URI;X-ADDRESS=Francey Brady’s 72 Main St Yonkers NY 10701 United States;X-APPLE-RADIUS=500;X-TITLE=72 Main St:geo:-73.9016993,40.9346236
END:VEVENT
BEGIN:VEVENT
DTSTART;TZID=America/New_York:20260519T190000
DTEND;TZID=America/New_York:20260519T210000
DTSTAMP:20260424T132747
CREATED:20260306T021554Z
LAST-MODIFIED:20260306T021554Z
UID:10017078-1779217200-1779224400@letsgotrivia.com
SUMMARY:Francey Brady's
DESCRIPTION:Let’s Go Trivia Nights at Francey Brady’s in Yonkers\, NY! Tuesdays at 7:00pm.\n72 Main St\nYonkers NY  10701
URL:https://letsgotrivia.com/find-a-trivia/francey-bradys/2026-05-19/
LOCATION:Francey Brady’s\, 72 Main St\, Yonkers\, NY\, 10701\, United States
GEO:40.9346236;-73.9016993
X-APPLE-STRUCTURED-LOCATION;VALUE=URI;X-ADDRESS=Francey Brady’s 72 Main St Yonkers NY 10701 United States;X-APPLE-RADIUS=500;X-TITLE=72 Main St:geo:-73.9016993,40.9346236
END:VEVENT
BEGIN:VEVENT
DTSTART;TZID=America/New_York:20260526T190000
DTEND;TZID=America/New_York:20260526T210000
DTSTAMP:20260424T132747
CREATED:20260306T021554Z
LAST-MODIFIED:20260306T021554Z
UID:10017079-1779822000-1779829200@letsgotrivia.com
SUMMARY:Francey Brady's
DESCRIPTION:Let’s Go Trivia Nights at Francey Brady’s in Yonkers\, NY! Tuesdays at 7:00pm.\n72 Main St\nYonkers NY  10701
URL:https://letsgotrivia.com/find-a-trivia/francey-bradys/2026-05-26/
LOCATION:Francey Brady’s\, 72 Main St\, Yonkers\, NY\, 10701\, United States
GEO:40.9346236;-73.9016993
X-APPLE-STRUCTURED-LOCATION;VALUE=URI;X-ADDRESS=Francey Brady’s 72 Main St Yonkers NY 10701 United States;X-APPLE-RADIUS=500;X-TITLE=72 Main St:geo:-73.9016993,40.9346236
END:VEVENT
BEGIN:VEVENT
DTSTART;TZID=America/New_York:20260602T190000
DTEND;TZID=America/New_York:20260602T210000
DTSTAMP:20260424T132747
CREATED:20260306T021554Z
LAST-MODIFIED:20260306T021554Z
UID:10017080-1780426800-1780434000@letsgotrivia.com
SUMMARY:Francey Brady's
DESCRIPTION:Let’s Go Trivia Nights at Francey Brady’s in Yonkers\, NY! Tuesdays at 7:00pm.\n72 Main St\nYonkers NY  10701
URL:https://letsgotrivia.com/find-a-trivia/francey-bradys/2026-06-02/
LOCATION:Francey Brady’s\, 72 Main St\, Yonkers\, NY\, 10701\, United States
GEO:40.9346236;-73.9016993
X-APPLE-STRUCTURED-LOCATION;VALUE=URI;X-ADDRESS=Francey Brady’s 72 Main St Yonkers NY 10701 United States;X-APPLE-RADIUS=500;X-TITLE=72 Main St:geo:-73.9016993,40.9346236
END:VEVENT
END:VCALENDAR