BEGIN:VCALENDAR
VERSION:2.0
PRODID:-//Let&#039;s Go Trivia - ECPv6.15.20//NONSGML v1.0//EN
CALSCALE:GREGORIAN
METHOD:PUBLISH
X-WR-CALNAME:Let&#039;s Go Trivia
X-ORIGINAL-URL:https://letsgotrivia.com
X-WR-CALDESC:Events for Let&#039;s Go Trivia
REFRESH-INTERVAL;VALUE=DURATION:PT1H
X-Robots-Tag:noindex
X-PUBLISHED-TTL:PT1H
BEGIN:VTIMEZONE
TZID:America/New_York
BEGIN:DAYLIGHT
TZOFFSETFROM:-0500
TZOFFSETTO:-0400
TZNAME:EDT
DTSTART:20250309T070000
END:DAYLIGHT
BEGIN:STANDARD
TZOFFSETFROM:-0400
TZOFFSETTO:-0500
TZNAME:EST
DTSTART:20251102T060000
END:STANDARD
BEGIN:DAYLIGHT
TZOFFSETFROM:-0500
TZOFFSETTO:-0400
TZNAME:EDT
DTSTART:20260308T070000
END:DAYLIGHT
BEGIN:STANDARD
TZOFFSETFROM:-0400
TZOFFSETTO:-0500
TZNAME:EST
DTSTART:20261101T060000
END:STANDARD
BEGIN:DAYLIGHT
TZOFFSETFROM:-0500
TZOFFSETTO:-0400
TZNAME:EDT
DTSTART:20270314T070000
END:DAYLIGHT
BEGIN:STANDARD
TZOFFSETFROM:-0400
TZOFFSETTO:-0500
TZNAME:EST
DTSTART:20271107T060000
END:STANDARD
END:VTIMEZONE
BEGIN:VEVENT
DTSTART;TZID=America/New_York:20260723T190000
DTEND;TZID=America/New_York:20260723T210000
DTSTAMP:20260424T050652
CREATED:20220510T031201Z
LAST-MODIFIED:20220510T031329Z
UID:10017230-1784833200-1784840400@letsgotrivia.com
SUMMARY:All City Grill
DESCRIPTION:
URL:https://letsgotrivia.com/find-a-trivia/all-city-grill/2026-07-23/
LOCATION:All City Grill\, 1643 Route 82\, Lagrangeville\, NY\, 12540\, United States
ATTACH;FMTTYPE=image/jpeg:https://letsgotrivia.com/wp-content/uploads/2022/05/unnamed.jpeg
END:VEVENT
END:VCALENDAR