BEGIN:VCALENDAR
VERSION:2.0
PRODID:-//Let&#039;s Go Trivia - ECPv6.15.20//NONSGML v1.0//EN
CALSCALE:GREGORIAN
METHOD:PUBLISH
X-WR-CALNAME:Let&#039;s Go Trivia
X-ORIGINAL-URL:https://letsgotrivia.com
X-WR-CALDESC:Events for Let&#039;s Go Trivia
REFRESH-INTERVAL;VALUE=DURATION:PT1H
X-Robots-Tag:noindex
X-PUBLISHED-TTL:PT1H
BEGIN:VTIMEZONE
TZID:America/New_York
BEGIN:DAYLIGHT
TZOFFSETFROM:-0500
TZOFFSETTO:-0400
TZNAME:EDT
DTSTART:20250309T070000
END:DAYLIGHT
BEGIN:STANDARD
TZOFFSETFROM:-0400
TZOFFSETTO:-0500
TZNAME:EST
DTSTART:20251102T060000
END:STANDARD
BEGIN:DAYLIGHT
TZOFFSETFROM:-0500
TZOFFSETTO:-0400
TZNAME:EDT
DTSTART:20260308T070000
END:DAYLIGHT
BEGIN:STANDARD
TZOFFSETFROM:-0400
TZOFFSETTO:-0500
TZNAME:EST
DTSTART:20261101T060000
END:STANDARD
BEGIN:DAYLIGHT
TZOFFSETFROM:-0500
TZOFFSETTO:-0400
TZNAME:EDT
DTSTART:20270314T070000
END:DAYLIGHT
BEGIN:STANDARD
TZOFFSETFROM:-0400
TZOFFSETTO:-0500
TZNAME:EST
DTSTART:20271107T060000
END:STANDARD
END:VTIMEZONE
BEGIN:VEVENT
DTSTART;TZID=America/New_York:20260415T183000
DTEND;TZID=America/New_York:20260415T203000
DTSTAMP:20260422T134615
CREATED:20250731T014626Z
LAST-MODIFIED:20250731T014707Z
UID:10016808-1776277800-1776285000@letsgotrivia.com
SUMMARY:Bareburger - Mount Kisco
DESCRIPTION:Let’s Go Trivia Nights at Bareburger in Mount Kisco\, NY! Wednesdays at 6:30pm.\n445 Main St.\nMount Kisco\, NY 10549
URL:https://letsgotrivia.com/find-a-trivia/bareburger-mount-kisco/2026-04-15/
LOCATION:Bareburger Mount Kisco\, 445 Main St.\, Mount Kisco\, NY\, 10549\, United States
END:VEVENT
BEGIN:VEVENT
DTSTART;TZID=America/New_York:20260408T183000
DTEND;TZID=America/New_York:20260408T203000
DTSTAMP:20260422T134616
CREATED:20250731T014626Z
LAST-MODIFIED:20250731T014707Z
UID:10016781-1775673000-1775680200@letsgotrivia.com
SUMMARY:Bareburger - Mount Kisco
DESCRIPTION:Let’s Go Trivia Nights at Bareburger in Mount Kisco\, NY! Wednesdays at 6:30pm.\n445 Main St.\nMount Kisco\, NY 10549
URL:https://letsgotrivia.com/find-a-trivia/bareburger-mount-kisco/2026-04-08/
LOCATION:Bareburger Mount Kisco\, 445 Main St.\, Mount Kisco\, NY\, 10549\, United States
END:VEVENT
BEGIN:VEVENT
DTSTART;TZID=America/New_York:20260401T183000
DTEND;TZID=America/New_York:20260401T203000
DTSTAMP:20260422T134616
CREATED:20250731T014626Z
LAST-MODIFIED:20250731T014707Z
UID:10016756-1775068200-1775075400@letsgotrivia.com
SUMMARY:Bareburger - Mount Kisco
DESCRIPTION:Let’s Go Trivia Nights at Bareburger in Mount Kisco\, NY! Wednesdays at 6:30pm.\n445 Main St.\nMount Kisco\, NY 10549
URL:https://letsgotrivia.com/find-a-trivia/bareburger-mount-kisco/2026-04-01/
LOCATION:Bareburger Mount Kisco\, 445 Main St.\, Mount Kisco\, NY\, 10549\, United States
END:VEVENT
BEGIN:VEVENT
DTSTART;TZID=America/New_York:20260325T183000
DTEND;TZID=America/New_York:20260325T203000
DTSTAMP:20260422T134616
CREATED:20250731T014626Z
LAST-MODIFIED:20250731T014707Z
UID:10016731-1774463400-1774470600@letsgotrivia.com
SUMMARY:Bareburger - Mount Kisco
DESCRIPTION:Let’s Go Trivia Nights at Bareburger in Mount Kisco\, NY! Wednesdays at 6:30pm.\n445 Main St.\nMount Kisco\, NY 10549
URL:https://letsgotrivia.com/find-a-trivia/bareburger-mount-kisco/2026-03-25/
LOCATION:Bareburger Mount Kisco\, 445 Main St.\, Mount Kisco\, NY\, 10549\, United States
END:VEVENT
BEGIN:VEVENT
DTSTART;TZID=America/New_York:20260318T183000
DTEND;TZID=America/New_York:20260318T203000
DTSTAMP:20260422T134616
CREATED:20250731T014626Z
LAST-MODIFIED:20250731T014707Z
UID:10016706-1773858600-1773865800@letsgotrivia.com
SUMMARY:Bareburger - Mount Kisco
DESCRIPTION:Let’s Go Trivia Nights at Bareburger in Mount Kisco\, NY! Wednesdays at 6:30pm.\n445 Main St.\nMount Kisco\, NY 10549
URL:https://letsgotrivia.com/find-a-trivia/bareburger-mount-kisco/2026-03-18/
LOCATION:Bareburger Mount Kisco\, 445 Main St.\, Mount Kisco\, NY\, 10549\, United States
END:VEVENT
BEGIN:VEVENT
DTSTART;TZID=America/New_York:20260311T183000
DTEND;TZID=America/New_York:20260311T203000
DTSTAMP:20260422T134616
CREATED:20250731T014626Z
LAST-MODIFIED:20250731T014707Z
UID:10016681-1773253800-1773261000@letsgotrivia.com
SUMMARY:Bareburger - Mount Kisco
DESCRIPTION:Let’s Go Trivia Nights at Bareburger in Mount Kisco\, NY! Wednesdays at 6:30pm.\n445 Main St.\nMount Kisco\, NY 10549
URL:https://letsgotrivia.com/find-a-trivia/bareburger-mount-kisco/2026-03-11/
LOCATION:Bareburger Mount Kisco\, 445 Main St.\, Mount Kisco\, NY\, 10549\, United States
END:VEVENT
BEGIN:VEVENT
DTSTART;TZID=America/New_York:20260304T183000
DTEND;TZID=America/New_York:20260304T203000
DTSTAMP:20260422T134616
CREATED:20250731T014626Z
LAST-MODIFIED:20250731T014707Z
UID:10016656-1772649000-1772656200@letsgotrivia.com
SUMMARY:Bareburger - Mount Kisco
DESCRIPTION:Let’s Go Trivia Nights at Bareburger in Mount Kisco\, NY! Wednesdays at 6:30pm.\n445 Main St.\nMount Kisco\, NY 10549
URL:https://letsgotrivia.com/find-a-trivia/bareburger-mount-kisco/2026-03-04/
LOCATION:Bareburger Mount Kisco\, 445 Main St.\, Mount Kisco\, NY\, 10549\, United States
END:VEVENT
BEGIN:VEVENT
DTSTART;TZID=America/New_York:20260225T183000
DTEND;TZID=America/New_York:20260225T203000
DTSTAMP:20260422T134616
CREATED:20250731T014626Z
LAST-MODIFIED:20250731T014707Z
UID:10016618-1772044200-1772051400@letsgotrivia.com
SUMMARY:Bareburger - Mount Kisco
DESCRIPTION:Let’s Go Trivia Nights at Bareburger in Mount Kisco\, NY! Wednesdays at 6:30pm.\n445 Main St.\nMount Kisco\, NY 10549
URL:https://letsgotrivia.com/find-a-trivia/bareburger-mount-kisco/2026-02-25/
LOCATION:Bareburger Mount Kisco\, 445 Main St.\, Mount Kisco\, NY\, 10549\, United States
END:VEVENT
BEGIN:VEVENT
DTSTART;TZID=America/New_York:20260218T183000
DTEND;TZID=America/New_York:20260218T203000
DTSTAMP:20260422T134616
CREATED:20250731T014626Z
LAST-MODIFIED:20250731T014707Z
UID:10016594-1771439400-1771446600@letsgotrivia.com
SUMMARY:Bareburger - Mount Kisco
DESCRIPTION:Let’s Go Trivia Nights at Bareburger in Mount Kisco\, NY! Wednesdays at 6:30pm.\n445 Main St.\nMount Kisco\, NY 10549
URL:https://letsgotrivia.com/find-a-trivia/bareburger-mount-kisco/2026-02-18/
LOCATION:Bareburger Mount Kisco\, 445 Main St.\, Mount Kisco\, NY\, 10549\, United States
END:VEVENT
BEGIN:VEVENT
DTSTART;TZID=America/New_York:20260211T183000
DTEND;TZID=America/New_York:20260211T203000
DTSTAMP:20260422T134616
CREATED:20250731T014626Z
LAST-MODIFIED:20250731T014707Z
UID:10016556-1770834600-1770841800@letsgotrivia.com
SUMMARY:Bareburger - Mount Kisco
DESCRIPTION:Let’s Go Trivia Nights at Bareburger in Mount Kisco\, NY! Wednesdays at 6:30pm.\n445 Main St.\nMount Kisco\, NY 10549
URL:https://letsgotrivia.com/find-a-trivia/bareburger-mount-kisco/2026-02-11/
LOCATION:Bareburger Mount Kisco\, 445 Main St.\, Mount Kisco\, NY\, 10549\, United States
END:VEVENT
BEGIN:VEVENT
DTSTART;TZID=America/New_York:20260204T183000
DTEND;TZID=America/New_York:20260204T203000
DTSTAMP:20260422T134616
CREATED:20250731T014626Z
LAST-MODIFIED:20250731T014707Z
UID:10016518-1770229800-1770237000@letsgotrivia.com
SUMMARY:Bareburger - Mount Kisco
DESCRIPTION:Let’s Go Trivia Nights at Bareburger in Mount Kisco\, NY! Wednesdays at 6:30pm.\n445 Main St.\nMount Kisco\, NY 10549
URL:https://letsgotrivia.com/find-a-trivia/bareburger-mount-kisco/2026-02-04/
LOCATION:Bareburger Mount Kisco\, 445 Main St.\, Mount Kisco\, NY\, 10549\, United States
END:VEVENT
BEGIN:VEVENT
DTSTART;TZID=America/New_York:20260128T183000
DTEND;TZID=America/New_York:20260128T203000
DTSTAMP:20260422T134616
CREATED:20250731T014626Z
LAST-MODIFIED:20250731T014707Z
UID:10016494-1769625000-1769632200@letsgotrivia.com
SUMMARY:Bareburger - Mount Kisco
DESCRIPTION:Let’s Go Trivia Nights at Bareburger in Mount Kisco\, NY! Wednesdays at 6:30pm.\n445 Main St.\nMount Kisco\, NY 10549
URL:https://letsgotrivia.com/find-a-trivia/bareburger-mount-kisco/2026-01-28/
LOCATION:Bareburger Mount Kisco\, 445 Main St.\, Mount Kisco\, NY\, 10549\, United States
END:VEVENT
BEGIN:VEVENT
DTSTART;TZID=America/New_York:20260121T183000
DTEND;TZID=America/New_York:20260121T203000
DTSTAMP:20260422T134616
CREATED:20250731T014626Z
LAST-MODIFIED:20250731T014707Z
UID:10016493-1769020200-1769027400@letsgotrivia.com
SUMMARY:Bareburger - Mount Kisco
DESCRIPTION:Let’s Go Trivia Nights at Bareburger in Mount Kisco\, NY! Wednesdays at 6:30pm.\n445 Main St.\nMount Kisco\, NY 10549
URL:https://letsgotrivia.com/find-a-trivia/bareburger-mount-kisco/2026-01-21/
LOCATION:Bareburger Mount Kisco\, 445 Main St.\, Mount Kisco\, NY\, 10549\, United States
END:VEVENT
END:VCALENDAR