BEGIN:VCALENDAR
VERSION:2.0
PRODID:-//Let&#039;s Go Trivia - ECPv6.15.20//NONSGML v1.0//EN
CALSCALE:GREGORIAN
METHOD:PUBLISH
X-WR-CALNAME:Let&#039;s Go Trivia
X-ORIGINAL-URL:https://letsgotrivia.com
X-WR-CALDESC:Events for Let&#039;s Go Trivia
REFRESH-INTERVAL;VALUE=DURATION:PT1H
X-Robots-Tag:noindex
X-PUBLISHED-TTL:PT1H
BEGIN:VTIMEZONE
TZID:America/New_York
BEGIN:DAYLIGHT
TZOFFSETFROM:-0500
TZOFFSETTO:-0400
TZNAME:EDT
DTSTART:20250309T070000
END:DAYLIGHT
BEGIN:STANDARD
TZOFFSETFROM:-0400
TZOFFSETTO:-0500
TZNAME:EST
DTSTART:20251102T060000
END:STANDARD
BEGIN:DAYLIGHT
TZOFFSETFROM:-0500
TZOFFSETTO:-0400
TZNAME:EDT
DTSTART:20260308T070000
END:DAYLIGHT
BEGIN:STANDARD
TZOFFSETFROM:-0400
TZOFFSETTO:-0500
TZNAME:EST
DTSTART:20261101T060000
END:STANDARD
BEGIN:DAYLIGHT
TZOFFSETFROM:-0500
TZOFFSETTO:-0400
TZNAME:EDT
DTSTART:20270314T070000
END:DAYLIGHT
BEGIN:STANDARD
TZOFFSETFROM:-0400
TZOFFSETTO:-0500
TZNAME:EST
DTSTART:20271107T060000
END:STANDARD
END:VTIMEZONE
BEGIN:VEVENT
DTSTART;TZID=America/New_York:20260715T183000
DTEND;TZID=America/New_York:20260715T203000
DTSTAMP:20260422T134916
CREATED:20250731T014626Z
LAST-MODIFIED:20250731T014707Z
UID:10017203-1784140200-1784147400@letsgotrivia.com
SUMMARY:Bareburger - Mount Kisco
DESCRIPTION:Let’s Go Trivia Nights at Bareburger in Mount Kisco\, NY! Wednesdays at 6:30pm.\n445 Main St.\nMount Kisco\, NY 10549
URL:https://letsgotrivia.com/find-a-trivia/bareburger-mount-kisco/2026-07-15/
LOCATION:Bareburger Mount Kisco\, 445 Main St.\, Mount Kisco\, NY\, 10549\, United States
END:VEVENT
END:VCALENDAR