BEGIN:VCALENDAR
VERSION:2.0
PRODID:-//Let&#039;s Go Trivia - ECPv6.15.20//NONSGML v1.0//EN
CALSCALE:GREGORIAN
METHOD:PUBLISH
X-ORIGINAL-URL:https://letsgotrivia.com
X-WR-CALDESC:Events for Let&#039;s Go Trivia
REFRESH-INTERVAL;VALUE=DURATION:PT1H
X-Robots-Tag:noindex
X-PUBLISHED-TTL:PT1H
BEGIN:VTIMEZONE
TZID:America/New_York
BEGIN:DAYLIGHT
TZOFFSETFROM:-0500
TZOFFSETTO:-0400
TZNAME:EDT
DTSTART:20250309T070000
END:DAYLIGHT
BEGIN:STANDARD
TZOFFSETFROM:-0400
TZOFFSETTO:-0500
TZNAME:EST
DTSTART:20251102T060000
END:STANDARD
BEGIN:DAYLIGHT
TZOFFSETFROM:-0500
TZOFFSETTO:-0400
TZNAME:EDT
DTSTART:20260308T070000
END:DAYLIGHT
BEGIN:STANDARD
TZOFFSETFROM:-0400
TZOFFSETTO:-0500
TZNAME:EST
DTSTART:20261101T060000
END:STANDARD
BEGIN:DAYLIGHT
TZOFFSETFROM:-0500
TZOFFSETTO:-0400
TZNAME:EDT
DTSTART:20270314T070000
END:DAYLIGHT
BEGIN:STANDARD
TZOFFSETFROM:-0400
TZOFFSETTO:-0500
TZNAME:EST
DTSTART:20271107T060000
END:STANDARD
END:VTIMEZONE
BEGIN:VEVENT
DTSTART;TZID=America/New_York:20260717T190000
DTEND;TZID=America/New_York:20260717T210000
DTSTAMP:20260424T084545
CREATED:20240923T175233Z
LAST-MODIFIED:20240923T175233Z
UID:10017216-1784314800-1784322000@letsgotrivia.com
SUMMARY:Katie's Cottage
DESCRIPTION:Let’s Go Trivia Nights at Katie’s Cottage! Fridays at 7:00pm\n521 Central Park Ave.\nYonkers\, NY 10704
URL:https://letsgotrivia.com/find-a-trivia/katies-cottage/2026-07-17/
LOCATION:Katie’s Cottage\, 521 Central Park Ave.\, Yonkers\, NY\, 10704\, United States
END:VEVENT
END:VCALENDAR