BEGIN:VCALENDAR
VERSION:2.0
PRODID:-//Let&#039;s Go Trivia - ECPv6.15.20//NONSGML v1.0//EN
CALSCALE:GREGORIAN
METHOD:PUBLISH
X-WR-CALNAME:Let&#039;s Go Trivia
X-ORIGINAL-URL:https://letsgotrivia.com
X-WR-CALDESC:Events for Let&#039;s Go Trivia
REFRESH-INTERVAL;VALUE=DURATION:PT1H
X-Robots-Tag:noindex
X-PUBLISHED-TTL:PT1H
BEGIN:VTIMEZONE
TZID:America/New_York
BEGIN:DAYLIGHT
TZOFFSETFROM:-0500
TZOFFSETTO:-0400
TZNAME:EDT
DTSTART:20250309T070000
END:DAYLIGHT
BEGIN:STANDARD
TZOFFSETFROM:-0400
TZOFFSETTO:-0500
TZNAME:EST
DTSTART:20251102T060000
END:STANDARD
BEGIN:DAYLIGHT
TZOFFSETFROM:-0500
TZOFFSETTO:-0400
TZNAME:EDT
DTSTART:20260308T070000
END:DAYLIGHT
BEGIN:STANDARD
TZOFFSETFROM:-0400
TZOFFSETTO:-0500
TZNAME:EST
DTSTART:20261101T060000
END:STANDARD
BEGIN:DAYLIGHT
TZOFFSETFROM:-0500
TZOFFSETTO:-0400
TZNAME:EDT
DTSTART:20270314T070000
END:DAYLIGHT
BEGIN:STANDARD
TZOFFSETFROM:-0400
TZOFFSETTO:-0500
TZNAME:EST
DTSTART:20271107T060000
END:STANDARD
END:VTIMEZONE
BEGIN:VEVENT
DTSTART;TZID=America/New_York:20260723T180000
DTEND;TZID=America/New_York:20260723T200000
DTSTAMP:20260424T144710
CREATED:20250822T134946Z
LAST-MODIFIED:20250822T134946Z
UID:10017228-1784829600-1784836800@letsgotrivia.com
SUMMARY:Sloop Brewing Co.
DESCRIPTION:Let’s Go Trivia at Sloop Brewing Co.! Thursdays at 6:00pm.\n755 East Dr.\, Suite 106\nHopewell Junction\, NY 12533
URL:https://letsgotrivia.com/find-a-trivia/sloop-brewing-co-2/2026-07-23/
LOCATION:Sloop Brewing Co.\, 755 East Dr #106\, East Fishkill\, NY\, 12533\, United States
ATTACH;FMTTYPE=image/jpeg:https://letsgotrivia.com/wp-content/uploads/2022/10/Sloop-Brewing-600x600-1.jpg
END:VEVENT
END:VCALENDAR