BEGIN:VCALENDAR
VERSION:2.0
PRODID:-//Let&#039;s Go Trivia - ECPv6.15.20//NONSGML v1.0//EN
CALSCALE:GREGORIAN
METHOD:PUBLISH
X-ORIGINAL-URL:https://letsgotrivia.com
X-WR-CALDESC:Events for Let&#039;s Go Trivia
REFRESH-INTERVAL;VALUE=DURATION:PT1H
X-Robots-Tag:noindex
X-PUBLISHED-TTL:PT1H
BEGIN:VTIMEZONE
TZID:America/New_York
BEGIN:DAYLIGHT
TZOFFSETFROM:-0500
TZOFFSETTO:-0400
TZNAME:EDT
DTSTART:20250309T070000
END:DAYLIGHT
BEGIN:STANDARD
TZOFFSETFROM:-0400
TZOFFSETTO:-0500
TZNAME:EST
DTSTART:20251102T060000
END:STANDARD
BEGIN:DAYLIGHT
TZOFFSETFROM:-0500
TZOFFSETTO:-0400
TZNAME:EDT
DTSTART:20260308T070000
END:DAYLIGHT
BEGIN:STANDARD
TZOFFSETFROM:-0400
TZOFFSETTO:-0500
TZNAME:EST
DTSTART:20261101T060000
END:STANDARD
BEGIN:DAYLIGHT
TZOFFSETFROM:-0500
TZOFFSETTO:-0400
TZNAME:EDT
DTSTART:20270314T070000
END:DAYLIGHT
BEGIN:STANDARD
TZOFFSETFROM:-0400
TZOFFSETTO:-0500
TZNAME:EST
DTSTART:20271107T060000
END:STANDARD
END:VTIMEZONE
BEGIN:VEVENT
DTSTART;TZID=America/New_York:20260430T183000
DTEND;TZID=America/New_York:20260430T203000
DTSTAMP:20260424T152345
CREATED:20250212T214823Z
LAST-MODIFIED:20250212T214823Z
UID:10016889-1777573800-1777581000@letsgotrivia.com
SUMMARY:The 19th Hole
DESCRIPTION:Let’s Go Trivia Nights at The 19th Hole in Ossining\, NY! Thursdays at 6:30pm.\n240 South Highland Avenue\nOssining\, NY 10562
URL:https://letsgotrivia.com/find-a-trivia/the-19th-hole/2026-04-30/
LOCATION:The 19th Hole\, 240 South Highland Avenue\, Ossining\, NY\, 10562\, United States
END:VEVENT
BEGIN:VEVENT
DTSTART;TZID=America/New_York:20260507T183000
DTEND;TZID=America/New_York:20260507T203000
DTSTAMP:20260424T152345
CREATED:20250212T214823Z
LAST-MODIFIED:20250212T214823Z
UID:10016912-1778178600-1778185800@letsgotrivia.com
SUMMARY:The 19th Hole
DESCRIPTION:Let’s Go Trivia Nights at The 19th Hole in Ossining\, NY! Thursdays at 6:30pm.\n240 South Highland Avenue\nOssining\, NY 10562
URL:https://letsgotrivia.com/find-a-trivia/the-19th-hole/2026-05-07/
LOCATION:The 19th Hole\, 240 South Highland Avenue\, Ossining\, NY\, 10562\, United States
END:VEVENT
BEGIN:VEVENT
DTSTART;TZID=America/New_York:20260514T183000
DTEND;TZID=America/New_York:20260514T203000
DTSTAMP:20260424T152345
CREATED:20250212T214823Z
LAST-MODIFIED:20250212T214823Z
UID:10016935-1778783400-1778790600@letsgotrivia.com
SUMMARY:The 19th Hole
DESCRIPTION:Let’s Go Trivia Nights at The 19th Hole in Ossining\, NY! Thursdays at 6:30pm.\n240 South Highland Avenue\nOssining\, NY 10562
URL:https://letsgotrivia.com/find-a-trivia/the-19th-hole/2026-05-14/
LOCATION:The 19th Hole\, 240 South Highland Avenue\, Ossining\, NY\, 10562\, United States
END:VEVENT
BEGIN:VEVENT
DTSTART;TZID=America/New_York:20260521T183000
DTEND;TZID=America/New_York:20260521T203000
DTSTAMP:20260424T152345
CREATED:20250212T214823Z
LAST-MODIFIED:20250212T214823Z
UID:10016959-1779388200-1779395400@letsgotrivia.com
SUMMARY:The 19th Hole
DESCRIPTION:Let’s Go Trivia Nights at The 19th Hole in Ossining\, NY! Thursdays at 6:30pm.\n240 South Highland Avenue\nOssining\, NY 10562
URL:https://letsgotrivia.com/find-a-trivia/the-19th-hole/2026-05-21/
LOCATION:The 19th Hole\, 240 South Highland Avenue\, Ossining\, NY\, 10562\, United States
END:VEVENT
BEGIN:VEVENT
DTSTART;TZID=America/New_York:20260528T183000
DTEND;TZID=America/New_York:20260528T203000
DTSTAMP:20260424T152345
CREATED:20250212T214823Z
LAST-MODIFIED:20250212T214823Z
UID:10016995-1779993000-1780000200@letsgotrivia.com
SUMMARY:The 19th Hole
DESCRIPTION:Let’s Go Trivia Nights at The 19th Hole in Ossining\, NY! Thursdays at 6:30pm.\n240 South Highland Avenue\nOssining\, NY 10562
URL:https://letsgotrivia.com/find-a-trivia/the-19th-hole/2026-05-28/
LOCATION:The 19th Hole\, 240 South Highland Avenue\, Ossining\, NY\, 10562\, United States
END:VEVENT
BEGIN:VEVENT
DTSTART;TZID=America/New_York:20260604T183000
DTEND;TZID=America/New_York:20260604T203000
DTSTAMP:20260424T152345
CREATED:20250212T214823Z
LAST-MODIFIED:20250212T214823Z
UID:10017017-1780597800-1780605000@letsgotrivia.com
SUMMARY:The 19th Hole
DESCRIPTION:Let’s Go Trivia Nights at The 19th Hole in Ossining\, NY! Thursdays at 6:30pm.\n240 South Highland Avenue\nOssining\, NY 10562
URL:https://letsgotrivia.com/find-a-trivia/the-19th-hole/2026-06-04/
LOCATION:The 19th Hole\, 240 South Highland Avenue\, Ossining\, NY\, 10562\, United States
END:VEVENT
BEGIN:VEVENT
DTSTART;TZID=America/New_York:20260611T183000
DTEND;TZID=America/New_York:20260611T203000
DTSTAMP:20260424T152345
CREATED:20250212T214823Z
LAST-MODIFIED:20250212T214823Z
UID:10017095-1781202600-1781209800@letsgotrivia.com
SUMMARY:The 19th Hole
DESCRIPTION:Let’s Go Trivia Nights at The 19th Hole in Ossining\, NY! Thursdays at 6:30pm.\n240 South Highland Avenue\nOssining\, NY 10562
URL:https://letsgotrivia.com/find-a-trivia/the-19th-hole/2026-06-11/
LOCATION:The 19th Hole\, 240 South Highland Avenue\, Ossining\, NY\, 10562\, United States
END:VEVENT
BEGIN:VEVENT
DTSTART;TZID=America/New_York:20260618T183000
DTEND;TZID=America/New_York:20260618T203000
DTSTAMP:20260424T152345
CREATED:20250212T214823Z
LAST-MODIFIED:20250212T214823Z
UID:10017115-1781807400-1781814600@letsgotrivia.com
SUMMARY:The 19th Hole
DESCRIPTION:Let’s Go Trivia Nights at The 19th Hole in Ossining\, NY! Thursdays at 6:30pm.\n240 South Highland Avenue\nOssining\, NY 10562
URL:https://letsgotrivia.com/find-a-trivia/the-19th-hole/2026-06-18/
LOCATION:The 19th Hole\, 240 South Highland Avenue\, Ossining\, NY\, 10562\, United States
END:VEVENT
BEGIN:VEVENT
DTSTART;TZID=America/New_York:20260625T183000
DTEND;TZID=America/New_York:20260625T203000
DTSTAMP:20260424T152345
CREATED:20250212T214823Z
LAST-MODIFIED:20250212T214823Z
UID:10017135-1782412200-1782419400@letsgotrivia.com
SUMMARY:The 19th Hole
DESCRIPTION:Let’s Go Trivia Nights at The 19th Hole in Ossining\, NY! Thursdays at 6:30pm.\n240 South Highland Avenue\nOssining\, NY 10562
URL:https://letsgotrivia.com/find-a-trivia/the-19th-hole/2026-06-25/
LOCATION:The 19th Hole\, 240 South Highland Avenue\, Ossining\, NY\, 10562\, United States
END:VEVENT
BEGIN:VEVENT
DTSTART;TZID=America/New_York:20260702T183000
DTEND;TZID=America/New_York:20260702T203000
DTSTAMP:20260424T152345
CREATED:20250212T214823Z
LAST-MODIFIED:20250212T214823Z
UID:10017171-1783017000-1783024200@letsgotrivia.com
SUMMARY:The 19th Hole
DESCRIPTION:Let’s Go Trivia Nights at The 19th Hole in Ossining\, NY! Thursdays at 6:30pm.\n240 South Highland Avenue\nOssining\, NY 10562
URL:https://letsgotrivia.com/find-a-trivia/the-19th-hole/2026-07-02/
LOCATION:The 19th Hole\, 240 South Highland Avenue\, Ossining\, NY\, 10562\, United States
END:VEVENT
BEGIN:VEVENT
DTSTART;TZID=America/New_York:20260709T183000
DTEND;TZID=America/New_York:20260709T203000
DTSTAMP:20260424T152345
CREATED:20250212T214823Z
LAST-MODIFIED:20250212T214823Z
UID:10017191-1783621800-1783629000@letsgotrivia.com
SUMMARY:The 19th Hole
DESCRIPTION:Let’s Go Trivia Nights at The 19th Hole in Ossining\, NY! Thursdays at 6:30pm.\n240 South Highland Avenue\nOssining\, NY 10562
URL:https://letsgotrivia.com/find-a-trivia/the-19th-hole/2026-07-09/
LOCATION:The 19th Hole\, 240 South Highland Avenue\, Ossining\, NY\, 10562\, United States
END:VEVENT
BEGIN:VEVENT
DTSTART;TZID=America/New_York:20260716T183000
DTEND;TZID=America/New_York:20260716T203000
DTSTAMP:20260424T152345
CREATED:20250212T214823Z
LAST-MODIFIED:20250212T214823Z
UID:10017210-1784226600-1784233800@letsgotrivia.com
SUMMARY:The 19th Hole
DESCRIPTION:Let’s Go Trivia Nights at The 19th Hole in Ossining\, NY! Thursdays at 6:30pm.\n240 South Highland Avenue\nOssining\, NY 10562
URL:https://letsgotrivia.com/find-a-trivia/the-19th-hole/2026-07-16/
LOCATION:The 19th Hole\, 240 South Highland Avenue\, Ossining\, NY\, 10562\, United States
END:VEVENT
BEGIN:VEVENT
DTSTART;TZID=America/New_York:20260723T183000
DTEND;TZID=America/New_York:20260723T203000
DTSTAMP:20260424T152345
CREATED:20250212T214823Z
LAST-MODIFIED:20250212T214823Z
UID:10017229-1784831400-1784838600@letsgotrivia.com
SUMMARY:The 19th Hole
DESCRIPTION:Let’s Go Trivia Nights at The 19th Hole in Ossining\, NY! Thursdays at 6:30pm.\n240 South Highland Avenue\nOssining\, NY 10562
URL:https://letsgotrivia.com/find-a-trivia/the-19th-hole/2026-07-23/
LOCATION:The 19th Hole\, 240 South Highland Avenue\, Ossining\, NY\, 10562\, United States
END:VEVENT
END:VCALENDAR